{
 "currentVersion": 10.81,
 "serviceDescription": "",
 "mapName": "Layers",
 "description": "",
 "copyrightText": "",
 "supportsDynamicLayers": true,
 "layers": [
  {
   "id": 0,
   "name": "GISOrthos.DBO.TrueOrthos",
   "parentLayerId": -1,
   "defaultVisibility": true,
   "subLayerIds": null,
   "minScale": 0,
   "maxScale": 0,
   "type": "Raster Catalog Layer",
   "geometryType": "esriGeometryPolygon"
  }
 ],
 "tables": [],
 "spatialReference": {
  "wkid": 102100,
  "latestWkid": 3857
 },
 "singleFusedMapCache": true,
 "tileInfo": {
  "rows": 256,
  "cols": 256,
  "dpi": 96,
  "format": "Mixed",
  "compressionQuality": 75,
  "origin": {
   "x": -20037700,
   "y": 30241100
  },
  "spatialReference": {
   "wkid": 102100,
   "latestWkid": 3857
  },
  "lods": [
   {
    "level": 0,
    "resolution": 305.74811314055756,
    "scale": 1155581.108577
   },
   {
    "level": 1,
    "resolution": 152.87405657041106,
    "scale": 577790.554289
   },
   {
    "level": 2,
    "resolution": 76.43702828507324,
    "scale": 288895.277144
   },
   {
    "level": 3,
    "resolution": 38.21851414253662,
    "scale": 144447.638572
   },
   {
    "level": 4,
    "resolution": 19.10925707126831,
    "scale": 72223.819286
   },
   {
    "level": 5,
    "resolution": 9.554628535634155,
    "scale": 36111.909643
   },
   {
    "level": 6,
    "resolution": 4.77731426794937,
    "scale": 18055.954822
   },
   {
    "level": 7,
    "resolution": 2.388657133974685,
    "scale": 9027.977411
   },
   {
    "level": 8,
    "resolution": 1.1943285668550503,
    "scale": 4513.988705
   },
   {
    "level": 9,
    "resolution": 0.5971642835598172,
    "scale": 2256.994353
   },
   {
    "level": 10,
    "resolution": 0.29858214164761665,
    "scale": 1128.497176
   },
   {
    "level": 11,
    "resolution": 0.158750317500635,
    "scale": 600
   },
   {
    "level": 12,
    "resolution": 0.0793751587503175,
    "scale": 300
   }
  ]
 },
 "initialExtent": {
  "xmin": -8916157.18913624,
  "ymin": 4897746.875618274,
  "xmax": -8772875.583726365,
  "ymax": 4984828.137333163,
  "spatialReference": {
   "cs": "pcs",
   "wkid": 102100
  }
 },
 "fullExtent": {
  "xmin": -8899362.332768368,
  "ymin": 4869794.960980533,
  "xmax": -8789675.580486212,
  "ymax": 4968109.627739691,
  "spatialReference": {
   "cs": "pcs",
   "wkid": 102100
  }
 },
 "minScale": 1155581.108577,
 "maxScale": 300,
 "minLOD": 0,
 "maxLOD": 10,
 "units": "esriMeters",
 "supportedImageFormatTypes": "PNG32,PNG24,PNG,JPG,DIB,TIFF,EMF,PS,PDF,GIF,SVG,SVGZ,BMP",
 "documentInfo": {
  "Title": "",
  "Author": "",
  "Comments": "",
  "Subject": "",
  "Category": "",
  "AntialiasingMode": "None",
  "TextAntialiasingMode": "Force",
  "Keywords": ""
 },
 "capabilities": "Map,Query,Data",
 "supportedQueryFormats": "JSON, geoJSON",
 "exportTilesAllowed": false,
 "referenceScale": 0,
 "datumTransformations": [
  {
   "geoTransforms": [
    {
     "wkid": 108001,
     "latestWkid": 1241,
     "transformForward": true,
     "name": "NAD_1927_To_NAD_1983_NADCON"
    }
   ]
  },
  {
   "geoTransforms": [
    {
     "wkid": 108001,
     "latestWkid": 1241,
     "transformForward": false,
     "name": "NAD_1927_To_NAD_1983_NADCON"
    }
   ]
  }
 ],
 "supportsDatumTransformation": true,
 "maxRecordCount": 1000,
 "maxImageHeight": 4096,
 "maxImageWidth": 4096,
 "supportedExtensions": ""
}
